Package: HiLDA Version: 1.23.0 Command: /home/biocbuild/bbs-3.22-bioc/R/bin/R CMD INSTALL HiLDA StartedAt: 2025-10-22 16:00:54 -0400 (Wed, 22 Oct 2025) EndedAt: 2025-10-22 16:01:12 -0400 (Wed, 22 Oct 2025) EllapsedTime: 18.3 seconds RetCode: 0 Status: OK