Package: ISAnalytics Version: 1.19.3 Command: /home/biocbuild/bbs-3.22-bioc/R/bin/R CMD INSTALL ISAnalytics StartedAt: 2025-10-19 15:10:11 -0400 (Sun, 19 Oct 2025) EndedAt: 2025-10-19 15:10:30 -0400 (Sun, 19 Oct 2025) EllapsedTime: 18.4 seconds RetCode: 0 Status: OK