Package: ITALICS Version: 2.69.0 Command: /home/biocbuild/bbs-3.22-bioc/R/bin/R CMD INSTALL ITALICS StartedAt: 2025-10-22 15:58:53 -0400 (Wed, 22 Oct 2025) EndedAt: 2025-10-22 15:59:18 -0400 (Wed, 22 Oct 2025) EllapsedTime: 25.1 seconds RetCode: 0 Status: OK