Package: InPAS Version: 2.17.1 Command: /home/biocbuild/bbs-3.22-bioc/R/bin/R CMD build --keep-empty-dirs --no-resave-data --md5 InPAS StartedAt: 2025-10-05 18:15:45 -0400 (Sun, 05 Oct 2025) EndedAt: 2025-10-05 18:18:48 -0400 (Sun, 05 Oct 2025) EllapsedTime: 183.1 seconds RetCode: 0 Status: OK PackageFile: InPAS_2.17.1.tar.gz PackageFileSize: 1.431 MiB