Package: InPAS Version: 2.17.1 Command: /home/biocbuild/bbs-3.22-bioc/R/bin/R CMD INSTALL InPAS StartedAt: 2025-10-05 15:45:29 -0400 (Sun, 05 Oct 2025) EndedAt: 2025-10-05 15:46:16 -0400 (Sun, 05 Oct 2025) EllapsedTime: 46.6 seconds RetCode: 0 Status: OK