Package: IsoCorrectoRGUI Version: 1.27.0 Command: /Library/Frameworks/R.framework/Resources/bin/R CMD build --keep-empty-dirs --no-resave-data IsoCorrectoRGUI StartedAt: 2025-11-21 16:44:57 -0500 (Fri, 21 Nov 2025) EndedAt: 2025-11-21 16:45:01 -0500 (Fri, 21 Nov 2025) EllapsedTime: 4.0 seconds RetCode: 0 Status: OK PackageFile: IsoCorrectoRGUI_1.27.0.tar.gz PackageFileSize: 439.3 KiB