Package: LRBaseDbi Version: 2.19.1 Command: /home/biocbuild/bbs-3.22-bioc/R/bin/R CMD INSTALL LRBaseDbi StartedAt: 2025-09-21 15:58:30 -0400 (Sun, 21 Sep 2025) EndedAt: 2025-09-21 15:58:42 -0400 (Sun, 21 Sep 2025) EllapsedTime: 12.3 seconds RetCode: 0 Status: OK