Package: M3C Version: 1.31.0 Command: /home/biocbuild/bbs-3.22-bioc/R/bin/R CMD INSTALL M3C StartedAt: 2025-10-23 15:11:30 -0400 (Thu, 23 Oct 2025) EndedAt: 2025-10-23 15:11:48 -0400 (Thu, 23 Oct 2025) EllapsedTime: 18.0 seconds RetCode: 0 Status: OK