Package: MBECS Version: 1.13.0 Command: /home/biocbuild/bbs-3.22-bioc/R/bin/R CMD build --keep-empty-dirs --no-resave-data --md5 MBECS StartedAt: 2025-10-06 18:27:06 -0400 (Mon, 06 Oct 2025) EndedAt: 2025-10-06 18:28:13 -0400 (Mon, 06 Oct 2025) EllapsedTime: 67.0 seconds RetCode: 0 Status: OK PackageFile: MBECS_1.13.0.tar.gz PackageFileSize: 1.651 MiB