Package: MBECS Version: 1.13.0 Command: /home/biocbuild/bbs-3.22-bioc/R/bin/R CMD INSTALL MBECS StartedAt: 2025-10-06 15:27:47 -0400 (Mon, 06 Oct 2025) EndedAt: 2025-10-06 15:28:07 -0400 (Mon, 06 Oct 2025) EllapsedTime: 20.6 seconds RetCode: 0 Status: OK