Package: MLInterfaces Version: 1.89.0 Command: /home/biocbuild/bbs-3.22-bioc/R/bin/R CMD build --keep-empty-dirs --no-resave-data --md5 MLInterfaces StartedAt: 2025-10-10 18:54:37 -0400 (Fri, 10 Oct 2025) EndedAt: 2025-10-10 18:55:40 -0400 (Fri, 10 Oct 2025) EllapsedTime: 63.0 seconds RetCode: 0 Status: OK PackageFile: MLInterfaces_1.89.0.tar.gz PackageFileSize: 2.802 MiB