Package: MLInterfaces Version: 1.89.0 Command: /home/biocbuild/bbs-3.22-bioc/R/bin/R CMD INSTALL MLInterfaces StartedAt: 2025-10-10 15:41:15 -0400 (Fri, 10 Oct 2025) EndedAt: 2025-10-10 15:41:45 -0400 (Fri, 10 Oct 2025) EllapsedTime: 29.9 seconds RetCode: 0 Status: OK