Package: MLSeq Version: 2.27.0 Command: /home/biocbuild/bbs-3.22-bioc/R/bin/R CMD build --keep-empty-dirs --no-resave-data --md5 MLSeq StartedAt: 2025-10-15 18:52:23 -0400 (Wed, 15 Oct 2025) EndedAt: 2025-10-15 18:54:00 -0400 (Wed, 15 Oct 2025) EllapsedTime: 97.1 seconds RetCode: 0 Status: OK PackageFile: MLSeq_2.27.0.tar.gz PackageFileSize: 641.1 KiB