Package: MLSeq Version: 2.27.0 Command: /home/biocbuild/bbs-3.22-bioc/R/bin/R CMD INSTALL MLSeq StartedAt: 2025-10-14 15:21:57 -0400 (Tue, 14 Oct 2025) EndedAt: 2025-10-14 15:22:30 -0400 (Tue, 14 Oct 2025) EllapsedTime: 33.2 seconds RetCode: 0 Status: OK