Package: MVCClass Version: 1.85.0 Command: /home/biocbuild/bbs-3.23-bioc/R/bin/R CMD INSTALL MVCClass StartedAt: 2025-11-14 15:06:26 -0500 (Fri, 14 Nov 2025) EndedAt: 2025-11-14 15:06:43 -0500 (Fri, 14 Nov 2025) EllapsedTime: 17.0 seconds RetCode: 0 Status: OK