Package: MVCClass Version: 1.83.0 Command: /home/biocbuild/bbs-3.22-bioc/R/bin/R CMD INSTALL MVCClass StartedAt: 2025-07-14 15:05:21 -0400 (Mon, 14 Jul 2025) EndedAt: 2025-07-14 15:05:34 -0400 (Mon, 14 Jul 2025) EllapsedTime: 13.7 seconds RetCode: 0 Status: OK