Package: MeasurementError.cor Version: 1.81.0 Command: /home/biocbuild/bbs-3.22-bioc/R/bin/R CMD INSTALL MeasurementError.cor StartedAt: 2025-10-21 15:05:31 -0400 (Tue, 21 Oct 2025) EndedAt: 2025-10-21 15:05:41 -0400 (Tue, 21 Oct 2025) EllapsedTime: 10.1 seconds RetCode: 0 Status: OK