Package: Mergeomics Version: 1.37.0 Command: /home/biocbuild/bbs-3.22-bioc/R/bin/R CMD INSTALL Mergeomics StartedAt: 2025-10-20 15:01:01 -0400 (Mon, 20 Oct 2025) EndedAt: 2025-10-20 15:01:11 -0400 (Mon, 20 Oct 2025) EllapsedTime: 9.6 seconds RetCode: 0 Status: OK