Package: MesKit Version: 1.19.0 Command: /home/biocbuild/bbs-3.22-bioc/R/bin/R CMD INSTALL MesKit StartedAt: 2025-10-02 15:30:28 -0400 (Thu, 02 Oct 2025) EndedAt: 2025-10-02 15:30:50 -0400 (Thu, 02 Oct 2025) EllapsedTime: 22.2 seconds RetCode: 0 Status: OK