Package: MetaNeighbor Version: 1.29.0 Command: /home/biocbuild/bbs-3.22-bioc/R/bin/R CMD build --keep-empty-dirs --no-resave-data --md5 MetaNeighbor StartedAt: 2025-10-16 19:34:23 -0400 (Thu, 16 Oct 2025) EndedAt: 2025-10-16 19:34:56 -0400 (Thu, 16 Oct 2025) EllapsedTime: 33.0 seconds RetCode: 0 Status: OK PackageFile: MetaNeighbor_1.29.0.tar.gz PackageFileSize: 3.198 MiB