Package: MetaNeighbor Version: 1.29.0 Command: /home/biocbuild/bbs-3.22-bioc/R/bin/R CMD INSTALL MetaNeighbor StartedAt: 2025-10-15 15:21:09 -0400 (Wed, 15 Oct 2025) EndedAt: 2025-10-15 15:21:13 -0400 (Wed, 15 Oct 2025) EllapsedTime: 4.0 seconds RetCode: 0 Status: OK