Package: MetaboCoreUtils Version: 1.17.1 Command: rm -rf MetaboCoreUtils.buildbin-libdir && mkdir MetaboCoreUtils.buildbin-libdir && /Users/biocbuild/BBS/utils/build-universal.sh MetaboCoreUtils_1.17.1.tar.gz /Library/Frameworks/R.framework/Resources/bin/R MetaboCoreUtils.buildbin-libdir StartedAt: 2025-10-15 22:51:47 -0400 (Wed, 15 Oct 2025) EndedAt: 2025-10-15 22:51:50 -0400 (Wed, 15 Oct 2025) EllapsedTime: 3.1 seconds RetCode: 0 Status: OK PackageFile: MetaboCoreUtils_1.17.1.tgz PackageFileSize: 1.09 MiB