Package: MetaboCoreUtils Version: 1.17.1 Command: /Library/Frameworks/R.framework/Resources/bin/R CMD build --keep-empty-dirs --no-resave-data MetaboCoreUtils StartedAt: 2025-10-15 16:57:07 -0400 (Wed, 15 Oct 2025) EndedAt: 2025-10-15 16:57:13 -0400 (Wed, 15 Oct 2025) EllapsedTime: 6.1 seconds RetCode: 0 Status: OK PackageFile: MetaboCoreUtils_1.17.1.tar.gz PackageFileSize: 1.011 MiB