Package: MetaboCoreUtils Version: 1.17.1 Command: /Library/Frameworks/R.framework/Resources/bin/R CMD INSTALL MetaboCoreUtils StartedAt: 2025-10-16 15:19:59 -0400 (Thu, 16 Oct 2025) EndedAt: 2025-10-16 15:20:01 -0400 (Thu, 16 Oct 2025) EllapsedTime: 2.2 seconds RetCode: 0 Status: OK