Package: MetaboCoreUtils Version: 1.19.0 Command: rm -rf MetaboCoreUtils.buildbin-libdir && mkdir MetaboCoreUtils.buildbin-libdir && /Users/biocbuild/BBS/utils/build-universal.sh MetaboCoreUtils_1.19.0.tar.gz /Library/Frameworks/R.framework/Resources/bin/R MetaboCoreUtils.buildbin-libdir StartedAt: 2025-11-17 07:03:30 -0500 (Mon, 17 Nov 2025) EndedAt: 2025-11-17 07:03:41 -0500 (Mon, 17 Nov 2025) EllapsedTime: 11.3 seconds RetCode: 0 Status: OK PackageFile: MetaboCoreUtils_1.19.0.tgz PackageFileSize: 1.09 MiB