Package: MetaboCoreUtils Version: 1.19.0 Command: /Library/Frameworks/R.framework/Resources/bin/R CMD build --keep-empty-dirs --no-resave-data MetaboCoreUtils StartedAt: 2025-11-16 22:36:38 -0500 (Sun, 16 Nov 2025) EndedAt: 2025-11-16 22:37:01 -0500 (Sun, 16 Nov 2025) EllapsedTime: 23.1 seconds RetCode: 0 Status: OK PackageFile: MetaboCoreUtils_1.19.0.tar.gz PackageFileSize: 1.01 MiB