Package: MethTargetedNGS Version: 1.41.0 Command: /home/biocbuild/bbs-3.22-bioc/R/bin/R CMD INSTALL MethTargetedNGS StartedAt: 2025-10-10 16:02:58 -0400 (Fri, 10 Oct 2025) EndedAt: 2025-10-10 16:03:10 -0400 (Fri, 10 Oct 2025) EllapsedTime: 11.6 seconds RetCode: 0 Status: OK