Package: Modstrings Version: 1.25.0 Command: /Library/Frameworks/R.framework/Resources/bin/R CMD build --keep-empty-dirs --no-resave-data Modstrings StartedAt: 2025-07-21 16:57:07 -0400 (Mon, 21 Jul 2025) EndedAt: 2025-07-21 16:57:19 -0400 (Mon, 21 Jul 2025) EllapsedTime: 12.1 seconds RetCode: 0 Status: OK PackageFile: Modstrings_1.25.0.tar.gz PackageFileSize: 823.4 KiB