Package: Modstrings Version: 1.25.0 Command: /Library/Frameworks/R.framework/Resources/bin/R CMD INSTALL Modstrings StartedAt: 2025-07-21 15:10:30 -0400 (Mon, 21 Jul 2025) EndedAt: 2025-07-21 15:10:37 -0400 (Mon, 21 Jul 2025) EllapsedTime: 7.1 seconds RetCode: 0 Status: OK