Package: Modstrings Version: 1.27.0 Command: /home/biocbuild/bbs-3.23-bioc/R/bin/R CMD build --keep-empty-dirs --no-resave-data Modstrings StartedAt: 2025-11-19 18:49:02 -0500 (Wed, 19 Nov 2025) EndedAt: 2025-11-19 18:49:07 -0500 (Wed, 19 Nov 2025) EllapsedTime: 5.0 seconds RetCode: 1 Status: ERROR PackageFile: None PackageFileSize: NA