Package: MsBackendMetaboLights Version: 1.3.1 Command: /home/biocbuild/bbs-3.22-bioc/R/bin/R CMD build --keep-empty-dirs --no-resave-data --md5 MsBackendMetaboLights StartedAt: 2025-10-10 19:01:21 -0400 (Fri, 10 Oct 2025) EndedAt: 2025-10-10 19:02:06 -0400 (Fri, 10 Oct 2025) EllapsedTime: 45.0 seconds RetCode: 0 Status: OK PackageFile: MsBackendMetaboLights_1.3.1.tar.gz PackageFileSize: 310.7 KiB