Package: MsBackendMetaboLights Version: 1.3.1 Command: /home/biocbuild/bbs-3.22-bioc/R/bin/R CMD INSTALL MsBackendMetaboLights StartedAt: 2025-10-10 15:26:47 -0400 (Fri, 10 Oct 2025) EndedAt: 2025-10-10 15:26:59 -0400 (Fri, 10 Oct 2025) EllapsedTime: 12.6 seconds RetCode: 0 Status: OK