Package: MsBackendMsp Version: 1.15.0 Command: /Library/Frameworks/R.framework/Resources/bin/R CMD build --keep-empty-dirs --no-resave-data MsBackendMsp StartedAt: 2025-11-26 17:04:29 -0500 (Wed, 26 Nov 2025) EndedAt: 2025-11-26 17:04:36 -0500 (Wed, 26 Nov 2025) EllapsedTime: 7.1 seconds RetCode: 0 Status: OK PackageFile: MsBackendMsp_1.15.0.tar.gz PackageFileSize: 324.8 KiB