Package: MsBackendRawFileReader Version: 1.15.1 Command: rm -rf MsBackendRawFileReader.buildbin-libdir && mkdir MsBackendRawFileReader.buildbin-libdir && /Users/biocbuild/BBS/utils/build-universal.sh MsBackendRawFileReader_1.15.1.tar.gz /Library/Frameworks/R.framework/Resources/bin/R MsBackendRawFileReader.buildbin-libdir StartedAt: 2025-07-27 22:33:23 -0400 (Sun, 27 Jul 2025) EndedAt: 2025-07-27 22:33:28 -0400 (Sun, 27 Jul 2025) EllapsedTime: 5.1 seconds RetCode: 0 Status: OK PackageFile: MsBackendRawFileReader_1.15.1.tgz PackageFileSize: 1.252 MiB