Package: MsBackendRawFileReader Version: 1.15.1 Command: /Library/Frameworks/R.framework/Resources/bin/R CMD build --keep-empty-dirs --no-resave-data MsBackendRawFileReader StartedAt: 2025-07-27 17:01:26 -0400 (Sun, 27 Jul 2025) EndedAt: 2025-07-27 17:03:30 -0400 (Sun, 27 Jul 2025) EllapsedTime: 124.4 seconds RetCode: 0 Status: OK PackageFile: MsBackendRawFileReader_1.15.1.tar.gz PackageFileSize: 1.469 MiB