Package: MsCoreUtils Version: 1.23.0 Command: /home/biocbuild/bbs-3.23-bioc/R/bin/R CMD build --keep-empty-dirs --no-resave-data MsCoreUtils StartedAt: 2025-11-05 18:53:15 -0500 (Wed, 05 Nov 2025) EndedAt: 2025-11-05 18:53:25 -0500 (Wed, 05 Nov 2025) EllapsedTime: 10.0 seconds RetCode: 0 Status: OK PackageFile: MsCoreUtils_1.23.0.tar.gz PackageFileSize: 414.4 KiB