Package: MsCoreUtils Version: 1.23.0 Command: /home/biocbuild/bbs-3.23-bioc/R/bin/R CMD INSTALL MsCoreUtils StartedAt: 2025-11-05 15:20:09 -0500 (Wed, 05 Nov 2025) EndedAt: 2025-11-05 15:20:17 -0500 (Wed, 05 Nov 2025) EllapsedTime: 7.8 seconds RetCode: 0 Status: OK