Package: MultiDataSet Version: 1.37.0 Command: /home/biocbuild/bbs-3.22-bioc/R/bin/R CMD build --keep-empty-dirs --no-resave-data --md5 MultiDataSet StartedAt: 2025-07-11 18:14:20 -0400 (Fri, 11 Jul 2025) EndedAt: 2025-07-11 18:15:13 -0400 (Fri, 11 Jul 2025) EllapsedTime: 53.1 seconds RetCode: 0 Status: OK PackageFile: MultiDataSet_1.37.0.tar.gz PackageFileSize: 497.5 KiB