Package: MultiDataSet Version: 1.37.0 Command: /home/biocbuild/bbs-3.22-bioc/R/bin/R CMD INSTALL MultiDataSet StartedAt: 2025-07-11 15:18:25 -0400 (Fri, 11 Jul 2025) EndedAt: 2025-07-11 15:18:48 -0400 (Fri, 11 Jul 2025) EllapsedTime: 23.1 seconds RetCode: 0 Status: OK