Package: NanoStringDiff Version: 1.41.0 Command: /home/biocbuild/bbs-3.23-bioc/R/bin/R CMD build --keep-empty-dirs --no-resave-data NanoStringDiff StartedAt: 2025-11-02 18:53:15 -0500 (Sun, 02 Nov 2025) EndedAt: 2025-11-02 18:53:35 -0500 (Sun, 02 Nov 2025) EllapsedTime: 20.0 seconds RetCode: 0 Status: OK PackageFile: NanoStringDiff_1.41.0.tar.gz PackageFileSize: 417.3 KiB