Package: NanoStringDiff Version: 1.41.0 Command: /home/biocbuild/bbs-3.23-bioc/R/bin/R CMD INSTALL NanoStringDiff StartedAt: 2025-11-02 15:59:54 -0500 (Sun, 02 Nov 2025) EndedAt: 2025-11-02 16:00:04 -0500 (Sun, 02 Nov 2025) EllapsedTime: 9.6 seconds RetCode: 0 Status: OK