Package: NanoStringNCTools Version: 1.19.0 Command: /Library/Frameworks/R.framework/Resources/bin/R CMD INSTALL NanoStringNCTools StartedAt: 2025-11-23 15:27:33 -0500 (Sun, 23 Nov 2025) EndedAt: 2025-11-23 15:27:59 -0500 (Sun, 23 Nov 2025) EllapsedTime: 26.0 seconds RetCode: 0 Status: OK