Package: NetPathMiner Version: 1.45.0 Command: /home/biocbuild/bbs-3.22-bioc/R/bin/R CMD build --keep-empty-dirs --no-resave-data --md5 NetPathMiner StartedAt: 2025-10-07 19:05:27 -0400 (Tue, 07 Oct 2025) EndedAt: 2025-10-07 19:05:54 -0400 (Tue, 07 Oct 2025) EllapsedTime: 26.0 seconds RetCode: 0 Status: OK PackageFile: NetPathMiner_1.45.0.tar.gz PackageFileSize: 2.309 MiB