Package: NetPathMiner Version: 1.45.0 Command: /home/biocbuild/bbs-3.22-bioc/R/bin/R CMD INSTALL NetPathMiner StartedAt: 2025-10-08 15:16:41 -0400 (Wed, 08 Oct 2025) EndedAt: 2025-10-08 15:16:59 -0400 (Wed, 08 Oct 2025) EllapsedTime: 18.0 seconds RetCode: 0 Status: OK