Package: OutSplice Version: 1.9.0 Command: /home/biocbuild/bbs-3.22-bioc/R/bin/R CMD INSTALL OutSplice StartedAt: 2025-10-23 16:03:00 -0400 (Thu, 23 Oct 2025) EndedAt: 2025-10-23 16:03:35 -0400 (Thu, 23 Oct 2025) EllapsedTime: 34.3 seconds RetCode: 0 Status: OK