Package: Path2PPI Version: 1.39.0 Command: /home/biocbuild/bbs-3.22-bioc/R/bin/R CMD build --keep-empty-dirs --no-resave-data --md5 Path2PPI StartedAt: 2025-10-21 19:14:03 -0400 (Tue, 21 Oct 2025) EndedAt: 2025-10-21 19:14:15 -0400 (Tue, 21 Oct 2025) EllapsedTime: 12.0 seconds RetCode: 0 Status: OK PackageFile: Path2PPI_1.39.0.tar.gz PackageFileSize: 1.427 MiB