Package: PepSetTest Version: 1.3.0 Command: /home/biocbuild/bbs-3.22-bioc/R/bin/R CMD INSTALL PepSetTest StartedAt: 2025-10-13 15:27:33 -0400 (Mon, 13 Oct 2025) EndedAt: 2025-10-13 15:27:36 -0400 (Mon, 13 Oct 2025) EllapsedTime: 2.7 seconds RetCode: 0 Status: OK