Package: QuaternaryProd Version: 1.43.0 Command: /home/biocbuild/bbs-3.22-bioc/R/bin/R CMD build --keep-empty-dirs --no-resave-data --md5 QuaternaryProd StartedAt: 2025-10-08 19:51:48 -0400 (Wed, 08 Oct 2025) EndedAt: 2025-10-08 19:57:30 -0400 (Wed, 08 Oct 2025) EllapsedTime: 341.4 seconds RetCode: 0 Status: OK PackageFile: QuaternaryProd_1.43.0.tar.gz PackageFileSize: 10.75 MiB