Package: QuaternaryProd Version: 1.43.0 Command: /home/biocbuild/bbs-3.22-bioc/R/bin/R CMD INSTALL QuaternaryProd StartedAt: 2025-10-08 15:19:47 -0400 (Wed, 08 Oct 2025) EndedAt: 2025-10-08 15:20:07 -0400 (Wed, 08 Oct 2025) EllapsedTime: 19.9 seconds RetCode: 0 Status: OK