Package: R453Plus1Toolbox Version: 1.59.0 Command: /home/biocbuild/bbs-3.22-bioc/R/bin/R CMD INSTALL R453Plus1Toolbox StartedAt: 2025-10-20 15:49:58 -0400 (Mon, 20 Oct 2025) EndedAt: 2025-10-20 15:51:07 -0400 (Mon, 20 Oct 2025) EllapsedTime: 69.3 seconds RetCode: 0 Status: OK